BEGIN:VCALENDAR
VERSION:2.0
PRODID:icalendar-ruby
CALSCALE:GREGORIAN
X-WR-TIMEZONE:Europe/Helsinki
BEGIN:VTIMEZONE
TZID:Europe/Helsinki
BEGIN:DAYLIGHT
DTSTART:20260329T040000
TZOFFSETFROM:+0200
TZOFFSETTO:+0300
RRULE:FREQ=YEARLY;BYDAY=-1SU;BYMONTH=3
TZNAME:EEST
END:DAYLIGHT
BEGIN:STANDARD
DTSTART:20261025T030000
TZOFFSETFROM:+0300
TZOFFSETTO:+0200
RRULE:FREQ=YEARLY;BYDAY=-1SU;BYMONTH=10
TZNAME:EET
END:STANDARD
END:VTIMEZONE
BEGIN:VEVENT
DTSTAMP:20260419T152456
UID:jous.myclub.fi-9930027
DTSTART;TZID=Europe/Helsinki:20260102T170000
DTEND;TZID=Europe/Helsinki:20260104T130000
DESCRIPTION:Tervetuloa kehittämään vapaauinnin sekä rintauinnin tekniik
 kaasi JoUS Kärki-uimareiden vetämälle tekniikkaleirille!\nLeiri pidetä
 än pe 2. - su 4.1.2026 Joensuussa. Lopullinen aikataulu ilmoitetaan osall
 istujille lähempänä leirin alkua\, mutta alustava ohjeellinen aikataulu
  on seuraava:\nPe 2.1\n17:30-19:00 luento (paikka ilmo. lähempänä)\n19:
 40-20:30 uinti (Vesikko)\nLa 3.1\n8:00-10:00 aamutreeni (Vesikko)\n15:00-1
 6:00 Kuvausten katselu (Vesikko)\n16-16:30 Kevyt jumppa (Vesikko)\n16:40-1
 8 Iltatreeni (Vesikko)\nSu 4.1\n7:45-9:00 aamutreeni (Rantakylän uimahall
 i)\n\nLeirin hinta on 149€ ja tuotto ohjataan kevään 2026 Edustus+Pisa
 ra 1 ryhmien ulkomaan leirin tukemiseen.  Hinta sisältää leiriohjelman 
 mukaisen toiminnan\, mutta ei muita mahdollisia kuluja\, kuten majoituksia
  tai ruokailuja. Leiriohjelmaaan kuuluu mm. luento\, useita tekniikkatreen
 ejä\, tekniikka ja uinti videoiden katselua sekä oman uinnin kuvaaminen 
 ja sen analysointi valmentajan kanssa.\nIlmoittautuminen leirille loppuu 2
 8.12.2025. Leiri toteutuu\, kun vähintään kahdeksan henkilöä osallist
 uu. Leiri on suunnattu ensisijaisesti aikuisille\, mutta mukaan voi osalli
 stua kaikki 16 vuotta täyttäneet. Ilmoittautumisen voi perua maksutta 31
 .12.2025 asti. Tämän jälkeen tehdyistä peruutuksista perimme 30 % suur
 uisen maksun leirin hinnasta.\nSeuran vakuutus ei kata leirille osallistuv
 ia\, joten huolehdithan oman vakuutusturvasi kattavuudesta.  HUOMIO!: Jos 
 et ole aiemmin kirjautunut Joensuun Uimaseura myclubiin\, sinulle tulee il
 moittautuessa kyselylomake\, jossa kysellään tietoja seuraan liittymises
 tä. Vastaa vain pakollisiin kysymyksiin\, sekä klikkaa EI seuran jäsenk
 yselykohtaan. Ensimmäisen kerran ilmoittautuessa Joensuun Uimaseuran toim
 intaan tiedot ovat pakollisia täyttää laskutuksen vuoksi. Pahoittelut t
 ästä vaivasta.\nLisätietoja leiristä voi tiedustella Juha Turuselta ju
 ha.turunen@jous.fi / 0405427566 tai Petri Hirvoselta petri.hirvonen@jous.f
 i.\n\nhttps://jous.myclub.fi/flow/events/9930027
LOCATION:Virkistysuimala Vesikko\, Uimarintie 1\, 80100 Joensuu\, Suomi
SEQUENCE:0
SUMMARY:Joensuun Uimaseura ry: Vapaa- ja rintauinnin tekniikkaleiri
URL;VALUE=URI:https://jous.myclub.fi/flow/events/9930027
END:VEVENT
END:VCALENDAR
